Workbook
Name DocTemplates: OFFSET(#REF!,,,COUNTA(#REF!),1)
Name DocTemplates: OFFSET(#REF!,,,COUNTA(#REF!),1)
Name DocTemplates: OFFSET(#REF!,,,COUNTA(#REF!),1)
Name DocTemplates: OFFSET(#REF!,,,COUNTA(#REF!),1)
Name pricelist: '2.5% Lumpsum'!$AF$48:$BC$842
Name pricelist: 'STANDARD COMP.'!$AF$48:$BC$831

Sheet Construction Sched 2023
O7: *Internal applied to Equity term plus 2 months buffer
A14: 45170

Sheet Corrected Internal_Parking B123
A1: The Southprime Flats | EX1: SIMULATION
A2: Mandurriao, Iloilo
A3: Parking (Shared Area)
BA7: B1 | BB7: =EO13 -> 1 | FB7: B1 | FC7: 25
R8: TSF B1 | S8: =RECOVERIES!F10 -> 11964.456 | BA8: B2 | BB8: =EO14 -> 18 | FB8: B2 | FC8: 33
R9: TSF B2 | S9: =RECOVERIES!L10 -> 11964.456 | BA9: B3 | BB9: =EO15 -> 31 | BF9: Interest Rate | CK9: Less: | CS9: applicable only Nov. 1-14,2023 | CU9: applicable only Nov. 15-31,2023 | FB9: B3 | FC9: 48
L10: 12000 | O10: 0.025 | Q10: 0.0125 | R10: TSF B3 | S10: =RECOVERIES!R10 -> 17388.762 | V10: 0.0375 | AN10: =RECOVERIES!R10 -> 17388.762 | AU10: 0.12 | AV10: 0.1 | BF10: 0.07 | BL10: END CONS. | BM10: 45200 | BO10: PMD TURN OVER | BP10: =BM10 -> 45200 | CJ10: 45047 | CK10: 2 | CL10: 45108 | CN10: 45139 | CP10: 45170 | CR10: 45200 | CT10: 45231 | CV10: 45231 | CX10: 45261 | CZ10: 45292 | DB10: 45323 | DD10: 45352 | DF10: 45383 | DH10: 45413 | DJ10: 45444 | DL10: 45474 | DN10: 45505 | DP10: 45536 | DR10: 45566 | DT10: 45597 | DV10: 45627 | DX10: 45658 | DZ10: 45689 | EB10: 45717 | ED10: April 1-9,2025 | EF10: April 10,2025 | EH10: 45778 | EJ10: 45809 | EL10: 45839 | EN10: 45870 | EP10: 45901
A11: NO. | B11: SALE STATUS | C11: BUILDING ALLOCATION | D11: TOTAL SLOT/BUILDNG | E11: FLOOR LEVEL | F11: UNIT ID | G11: TYPE | H11: GROSS AREA | I11: TYPICAL SP/SQM | J11: TYPICAL SELLING PRICE | K11: GROUND FLOOR | L11: ADDITIVES | M11: COMM RECOVERY | N11: NEW SELLING PRICE | O11: ( + ) 2.5% INCREASE | P11: NEW SELLING PRICE | Q11: INCREASE RATE (JULY 2024) | R11: INCREASED PHP VALUE (JULY 2024) | S11: INCIDENTAL RECOVERY (OCT 2024) | T11: NEW SELLING PRICE | U11: INCIDENTAL RECOVERY (OCT 16, 2024) | V11: INCREASE RATE (OCT 16, 2024) | W11: NEW SELLING PRICE (OCT 16, 2024) | X11: INCIDENTAL RECOVERY (DEC 2024) | Y11: NEW SELLING PRICE (DEC 2024) | Z11: INCIDENTAL RECOVERY (JAN 2025) | AA11: NEW SELLING PRICE (JAN 2025) | AB11: INCIDENTAL RECOVERY (FEB 2025) | AC11: NEW SELLING PRICE (FEB 2025) | AD11: INCIDENTAL RECOVERY (MAR 2025) | AE11: NEW SELLING PRICE (MAR 2025) | AF11: INCIDENTAL RECOVERY (APR 2025) | AG11: NEW SELLING PRICE (APR 2025) | AH11: INCIDENTAL RECOVERY (MAR 2025) | AI11: NEW SELLING PRICE (MAR 2025) | AJ11: INCIDENTAL RECOVERY (APR 2025) | AK11: NEW SELLING PRICE (APR 2025) | AL11: INCIDENTAL RECOVERY (MAY 2025) | AM11: NEW SELLING PRICE (MAY 2025) | AN11: INCIDENTAL RECOVERY (JULY 2025) | AO11: NEW SELLING PRICE (JULY 2025) | AP11: INCIDENTAL RECOVERY (AUG 2025) | AQ11: NEW SELLING PRICE (AUG 2025) | AR11: INCIDENTAL RECOVERY (SEP 2025) | AS11: NEW SELLING PRICE (SEP 2025) | AT11: NEW SELLING PRICE | AU11: ( + ) 12% VAT | AV11: ( + ) 10% LEGAL & MISCS. FEES | AW11: TOTAL CONTRACT PRICE | AX11: EQUITY DP % | AY11: EQUITY DOWN PAYMENT | AZ11: ( - ) RESERVATION FEE | BA11: ( = ) NET EQUITY DOWN PAYMENT | BB11: EQUITY TERM | BC11: MONTHLY EQUITY | BD11: BALANCE % | BE11: LOANABLE AMOUNT | BF11: Monthly Amort. 15 years @ 7% fixed 3 yrs only | BG11: Monthly Amort. 10 years @ 7% fixed 3 yrs only | BH11: Monthly Amort. 5 years @ 7% fixed 3 yrs only | BL11: TURN OVER DATE | BM11: REMAINING EQUITY | BO11: TURN OVER DATE | BP11: REMAINING EQUITY | BS11: Step-Up Computation | CA11: SALES STATUS | CB11: MASTERLIST | CC11: CHECKING | CG11: CURRENT | CI11: UPDATED | CK11: UPDATED | CM11: UPDATED | CO11: UPDATED | CQ11: UPDATED | CS11: UPDATED | CU11: UPDATED | CW11: UPDATED | CY11: UPDATED | DA11: UPDATED | DC11: UPDATED | DE11: UPDATED | DG11: UPDATED | DI11: UPDATED | DK11: UPDATED | DM11: UPDATED | DO11: UPDATED | DQ11: UPDATED | DS11: BASED ON UPDATED SCHED_OCT. 2024 | DU11: BASED ON UPDATED SCHED_OCT. 2024 | DW11: BASED ON UPDATED SCHED_OCT. 2024 | EX11: =AW11 -> TOTAL CONTRACT PRICE | EY11: =AX11 -> EQUITY DP % | EZ11: =AY11 -> EQUITY DOWN PAYMENT | FA11: =AZ11 -> ( - ) RESERVATION FEE | FB11: =BA11 -> ( = ) NET EQUITY DOWN PAYMENT | FC11: =BB11 -> EQUITY TERM | FD11: =BC11 -> MONTHLY EQUITY | FE11: =BD11 -> BALANCE % | ... FI11: =BH11 -> Monthly Amort. 5 years @ 7% fixed 3 yrs only | FK11: VARIANCE ON MONTHLY EQUITY
A12: 1 | C12: Building 1 | D12: 1 | E12: Ground Floor | F12: GF-B1-1 | G12: Single Slot | H12: 13.5 | I12: 52000 | J12: =H12*I12 -> 702000 | K12: 40000 | N12: =SUM(J12:M12) -> 742000 | O12: =N12*$O$10 -> 18550 | P12: =N12+O12 -> 760550 | Q12: =$Q$10 -> 0.0125 | R12: =P12*Q12 -> 9506.875 | S12: 1495.557 | T12: =P12+R12+S12 -> 771552.43 | V12: =T12*$V$10 -> 28933.216 | W12: =T12+U12+V12 -> 800485.65 | Y12: =W12+X12 -> 800485.65 | AA12: =Y12+Z12 -> 800485.65 | AC12: =AA12+AB12 -> 800485.65 | AE12: =AC12+AD12 -> 800485.65 | AG12: =AE12+AF12 -> 800485.65 | AI12: =AG12+AH12 -> 800485.65 | AK12: =SUM(AI12:AJ12) -> 800485.65 | AM12: =SUM(AK12:AL12) -> 800485.65 | AO12: =AM12+AN12 -> 800485.65 | AQ12: =AO12+AP12 -> 800485.65 | AS12: =AQ12+AR12 -> 800485.65 | AT12: =AS12 -> 800485.65 | AU12: =AT12*$AU$10 -> 96058.278 | AV12: =AT12*$AV$10 -> 80048.565 | AW12: =SUM(AT12:AV12) -> 976592.49 | AX12: 0.15 | AY12: =AW12*AX12 -> 146488.87 | AZ12: 10000 | BA12: =AY12-AZ12 -> 136488.87 | BB12: =$BB$7 -> 1 | BC12: =(AY12-AZ12)/BB12 -> 136488.87 | BD12: =100%-AX12 -> 0.85 | BE12: =AW12*BD12 -> 830103.62 | BF12: =-PMT($BF$10/12,180,BE12,0) -> 7461.206 | BG12: =-PMT($BF$10/12,120,BE12,0) -> 9638.2069 | BH12: =-PMT($BF$10/12,60,BE12,0) -> 16437.047 | BL12: 45658 | BM12: =(YEAR(BL12)-YEAR($BM$10))*12+MONTH(BL12)-MONTH($BM$10) -> 15 | BO12: =BL12+65 -> 45723 | BP12: =(YEAR(BO12)-YEAR($BM$10))*12+MONTH(BO12)-MONTH($BM$10)+$BP$7 -> 17 | BS12: Net Equity | BU12: =BA12 -> 136488.87 | CA12: HOLD | CB12: HOLD | CC12: =CA12=CB12 -> TRUE | CD12: HOLD | CE12: =CA12=CD12 -> TRUE | CF12: BUILDING | CG12: TERM | CH12: END EQUITY | CI12: TERM (w/ additional buffer) | CJ12: END EQUITY | CK12: TERM (w/ additional buffer) | CL12: END EQUITY | CM12: TERM (w/ additional buffer) | CN12: END EQUITY | CO12: TERM (w/ additional buffer) | CP12: END EQUITY | CQ12: TERM (w/ additional buffer) | CR12: END EQUITY | CS12: TERM (w/ additional buffer) | CT12: END EQUITY | CU12: TERM (w/ additional buffer) | CV12: END EQUITY | CW12: TERM (w/ additional buffer) | CX12: END EQUITY | CY12: TERM (w/ additional buffer) | CZ12: END EQUITY | DA12: TERM (w/ additional buffer) | DB12: END EQUITY | DC12: TERM (w/ additional buffer) | DD12: END EQUITY | DE12: TERM (w/ additional buffer) | DF12: END EQUITY | DG12: TERM (w/ additional buffer) | DH12: END EQUITY | DI12: TERM (w/ additional buffer) | DJ12: END EQUITY | DK12: TERM (w/ additional buffer) | DL12: END EQUITY | DM12: TERM (w/ additional buffer) | DN12: END EQUITY | DO12: TERM (w/ additional buffer) | DP12: END EQUITY | DQ12: TERM (w/ additional buffer) | DR12: END EQUITY | DS12: TERM (w/ +2 months PMD) | DT12: END EQUITY | DU12: TERM (w/ +2 months PMD) | DV12: END EQUITY | DW12: TERM (w/ +2 months PMD) | DX12: END EQUITY | DY12: TERM (w/ +2 months PMD) | DZ12: END EQUITY | EA12: TERM (w/ +2 months PMD) | EB12: END EQUITY | EC12: TERM (w/ +2 months PMD) | ED12: END EQUITY | EE12: TERM (w/ +2 months PMD) | EF12: END EQUITY | EG12: TERM (w/ +2 months PMD) | EH12: END EQUITY | EI12: TERM (w/ +2 months PMD) | EJ12: END EQUITY | EK12: TERM (w/ +2 months PMD) | EL12: END EQUITY | EM12: TERM (w/ +2 months PMD) | EN12: END EQUITY | EO12: TERM (w/ +2 months PMD) | EP12: END EQUITY | EX12: =AW12 -> 976592.49 | EY12: =AX12 -> 0.15 | EZ12: =AY12 -> 146488.87 | FA12: =AZ12 -> 10000 | FB12: =BA12 -> 136488.87 | FC12: =$FC$7 -> 25 | FD12: =FB12/FC12 -> 5459.5549 | FE12: =100%-EY12 -> 0.85 | FF12: =EX12*FE12 -> 830103.62 | FG12: =-PMT(7%/12,180,FF12,0) -> 7461.206 | FH12: =-PMT(7%/12,120,FF12,0) -> 9638.2069 | FI12: =-PMT(7%/12,60,FF12,0) -> 16437.047
A13: =A12+1 -> 2 | C13: Building 1 | D13: =D12+1 -> 2 | E13: Ground Floor | F13: GF-B1-2 | G13: Single Slot | H13: 13.5 | I13: 52000 | J13: =H13*I13 -> 702000 | K13: 40000 | L13: 50000 | N13: =SUM(J13:M13) -> 792000 | O13: =N13*$O$10 -> 19800 | P13: =N13+O13 -> 811800 | Q13: =$Q$10 -> 0.0125 | R13: =P13*Q13 -> 10147.5 | S13: 0 | T13: =P13+R13+S13 -> 821947.5 | V13: =T13*$V$10 -> 30823.031 | W13: =T13+U13+V13 -> 852770.53 | Y13: =W13+X13 -> 852770.53 | AA13: =Y13+Z13 -> 852770.53 | AC13: =AA13+AB13 -> 852770.53 | AE13: =AC13+AD13 -> 852770.53 | AG13: =AE13+AF13 -> 852770.53 | AI13: =AG13+AH13 -> 852770.53 | AK13: =SUM(AI13:AJ13) -> 852770.53 | AM13: =SUM(AK13:AL13) -> 852770.53 | AO13: =AM13+AN13 -> 852770.53 | AQ13: =AO13+AP13 -> 852770.53 | AS13: =AQ13+AR13 -> 852770.53 | AT13: =AS13 -> 852770.53 | AU13: =AT13*$AU$10 -> 102332.46 | AV13: =AT13*$AV$10 -> 85277.053 | AW13: =SUM(AT13:AV13) -> 1040380 | AX13: 0.15 | AY13: =AW13*AX13 -> 156057.01 | AZ13: 10000 | BA13: =AY13-AZ13 -> 146057.01 | BB13: =$BB$7 -> 1 | BC13: =(AY13-AZ13)/BB13 -> 146057.01 | BD13: =100%-AX13 -> 0.85 | BE13: =AW13*BD13 -> 884323.04 | BF13: =-PMT($BF$10/12,180,BE13,0) -> 7948.5455 | BG13: =-PMT($BF$10/12,120,BE13,0) -> 10267.74 | BH13: =-PMT($BF$10/12,60,BE13,0) -> 17510.656 | BL13: =$BL$12 -> 45658 | BM13: =(YEAR(BL13)-YEAR($BM$10))*12+MONTH(BL13)-MONTH($BM$10) -> 15 | BO13: =BL13+65 -> 45723 | BP13: =(YEAR(BO13)-YEAR($BM$10))*12+MONTH(BO13)-MONTH($BM$10)+$BP$7 -> 17 | BT13: Months covered | BU13: Months | BV13: % | BW13: Total | BX13: Monthly | CA13: SOLD | CB13: SOLD | CC13: =CA13=CB13 -> TRUE | CD13: SOLD | CE13: =CA13=CD13 -> TRUE | CF13: TSF B1 | CG13: 22 | CH13: =EDATE($BP$10,CG13) -> 45870 | CI13: 30 | CJ13: =EDATE(CJ10,CI13) -> 45962 | CK13: =CI13-CK10 -> 28 | CL13: =EDATE(CL10,CK13) -> 45962 | CM13: 30 | CN13: =EDATE(CN10,CM13) -> 46054 | CO13: 29 | CP13: =EDATE(CP10,CO13) -> 46054 | CQ13: 28 | CR13: =EDATE(CR10,CQ13) -> 46054 | CS13: =CQ13-1 -> 27 | CT13: =EDATE(CT10,CS13) -> 46054 | CU13: 24 | CV13: =EDATE(CV10,CU13) -> 45962 | CW13: =CU13-1 -> 23 | CX13: =EDATE(CX10,CW13) -> 45962 | CY13: =CW13-1 -> 22 | CZ13: =EDATE(CZ10,CY13) -> 45962 | DA13: =CY13-1 -> 21 | DB13: =EDATE(DB10,DA13) -> 45962 | DC13: 20 | DD13: 45962 | DE13: 19 | DF13: 45962 | DG13: 18 | DH13: 45962 | DI13: 17 | DJ13: 45962 | DK13: 16 | DL13: 45962 | DM13: =DK13-1 -> 15 | DN13: 45962 | DO13: =DM13-1 -> 14 | DP13: 45962 | DQ13: =DO13-1 -> 13 | DR13: 45962 | DS13: 9 | DT13: 45870 | DU13: =DS13-1 -> 8 | DV13: 45870 | DW13: =DU13-1 -> 7 | DX13: 45870 | DY13: =DW13-1 -> 6 | DZ13: 45870 | EA13: =DY13-1 -> 5 | EB13: 45870 | EC13: =EA13-1 -> 4 | ED13: 45870 | EE13: =EC13 -> 4 | EF13: 45870 | EG13: =EE13-1 -> 3 | EH13: 45870 | EI13: =EG13-1 -> 2 | EJ13: 45870 | EK13: 4 | EL13: =DATE(2025,11,20) -> 45981 | EM13: 2 | EN13: =DATE(2025,10,20) -> 45950 | EO13: 1 | EP13: =DATE(2025,10,20) -> 45950 | EX13: =AW13 -> 1040380 | EY13: =AX13 -> 0.15 | EZ13: =AY13 -> 156057.01 | FA13: =AZ13 -> 10000 | FB13: =BA13 -> 146057.01 | FC13: =$FC$7 -> 25 | FD13: =FB13/FC13 -> 5842.2803 | FE13: =100%-EY13 -> 0.85 | FF13: =EX13*FE13 -> 884323.04 | FG13: =-PMT(7%/12,180,FF13,0) -> 7948.5455 | FH13: =-PMT(7%/12,120,FF13,0) -> 10267.74 | FI13: =-PMT(7%/12,60,FF13,0) -> 17510.656
A14: =A13+1 -> 3 | C14: Building 1 | D14: =D13+1 -> 3 | E14: Ground Floor | F14: GF-B1-3 | G14: Single Slot | H14: 13.5 | I14: 52000 | J14: =H14*I14 -> 702000 | K14: 40000 | L14: 50000 | N14: =SUM(J14:M14) -> 792000 | O14: =N14*$O$10 -> 19800 | P14: =N14+O14 -> 811800 | Q14: =$Q$10 -> 0.0125 | R14: =P14*Q14 -> 10147.5 | S14: 0 | T14: =P14+R14+S14 -> 821947.5 | V14: =T14*$V$10 -> 30823.031 | W14: =T14+U14+V14 -> 852770.53 | Y14: =W14+X14 -> 852770.53 | AA14: =Y14+Z14 -> 852770.53 | AC14: =AA14+AB14 -> 852770.53 | AE14: =AC14+AD14 -> 852770.53 | AG14: =AE14+AF14 -> 852770.53 | AI14: =AG14+AH14 -> 852770.53 | AK14: =SUM(AI14:AJ14) -> 852770.53 | AM14: =SUM(AK14:AL14) -> 852770.53 | AO14: =AM14+AN14 -> 852770.53 | AQ14: =AO14+AP14 -> 852770.53 | AS14: =AQ14+AR14 -> 852770.53 | AT14: =AS14 -> 852770.53 | AU14: =AT14*$AU$10 -> 102332.46 | AV14: =AT14*$AV$10 -> 85277.053 | AW14: =SUM(AT14:AV14) -> 1040380 | AX14: 0.15 | AY14: =AW14*AX14 -> 156057.01 | AZ14: 10000 | BA14: =AY14-AZ14 -> 146057.01 | BB14: =$BB$7 -> 1 | BC14: =(AY14-AZ14)/BB14 -> 146057.01 | BD14: =100%-AX14 -> 0.85 | BE14: =AW14*BD14 -> 884323.04 | BF14: =-PMT($BF$10/12,180,BE14,0) -> 7948.5455 | BG14: =-PMT($BF$10/12,120,BE14,0) -> 10267.74 | BH14: =-PMT($BF$10/12,60,BE14,0) -> 17510.656 | BL14: =$BL$12 -> 45658 | BM14: =(YEAR(BL14)-YEAR($BM$10))*12+MONTH(BL14)-MONTH($BM$10) -> 15 | BO14: =BL14+65 -> 45723 | BP14: =(YEAR(BO14)-YEAR($BM$10))*12+MONTH(BO14)-MONTH($BM$10)+$BP$7 -> 17 | BS14: Step Up 1 | BV14: 0.25 | BW14: =BU12*BV14 -> 34122.218 | BX14: =BW14/BU14 -> #DIV/0! | CA14: SOLD | CB14: SOLD | CC14: =CA14=CB14 -> TRUE | CD14: SOLD | CE14: =CA14=CD14 -> TRUE | CF14: TSF B2 | CG14: 28 | CH14: =EDATE($BP$10,CG14) -> 46054 | CI14: 35 | CJ14: =EDATE(CJ10,CI14) -> 46113 | CK14: =CI14-CK10 -> 33 | CL14: =EDATE(CL10,CK14) -> 46113 | CM14: 35 | CN14: =EDATE(CN10,CM14) -> 46204 | CO14: 34 | CP14: =EDATE(CP10,CO14) -> 46204 | CQ14: =33+3 -> 36 | CR14: =EDATE(CR10,CQ14) -> 46296 | CS14: =CQ14-1 -> 35 | CT14: =EDATE(CT10,CS14) -> 46296 | CU14: 33 | CV14: =EDATE(CV10,CU14) -> 46235 | CW14: =CU14-1 -> 32 | CX14: =EDATE(CX10,CW14) -> 46235 | CY14: =CW14-1 -> 31 | CZ14: =EDATE(CZ10,CY14) -> 46235 | DA14: =CY14-1 -> 30 | DB14: =EDATE(DB10,DA14) -> 46235 | DC14: 29 | DD14: 46235 | DE14: 28 | DF14: 46235 | DG14: 27 | DH14: 46235 | DI14: 26 | DJ14: 46235 | DK14: 25 | DL14: 46235 | DM14: =DK14-1 -> 24 | DN14: 46235 | DO14: =DM14-1 -> 23 | DP14: 46235 | DQ14: =DO14-1 -> 22 | DR14: 46235 | DS14: 20 | DT14: 46204 | DU14: =DS14-1 -> 19 | DV14: 46204 | DW14: =DU14-1 -> 18 | DX14: 46204 | DY14: =DW14-1 -> 17 | DZ14: 46204 | EA14: =DY14-1 -> 16 | EB14: 46204 | EC14: =EA14-1 -> 15 | ED14: 46204 | EE14: 18 | EF14: 46204 | EG14: =EE14-1 -> 17 | EH14: 46235 | EI14: =EG14-1 -> 16 | EJ14: 46235 | EK14: 19 | EL14: 46419 | EM14: 19 | EN14: 46419 | EO14: 18 | EP14: 46419 | EX14: =AW14 -> 1040380 | EY14: =AX14 -> 0.15 | EZ14: =AY14 -> 156057.01 | FA14: =AZ14 -> 10000 | FB14: =BA14 -> 146057.01 | FC14: =$FC$7 -> 25 | FD14: =FB14/FC14 -> 5842.2803 | FE14: =100%-EY14 -> 0.85 | FF14: =EX14*FE14 -> 884323.04 | FG14: =-PMT(7%/12,180,FF14,0) -> 7948.5455 | FH14: =-PMT(7%/12,120,FF14,0) -> 10267.74 | FI14: =-PMT(7%/12,60,FF14,0) -> 17510.656
A15: =A14+1 -> 4 | C15: Building 1 | D15: =D14+1 -> 4 | E15: Ground Floor | F15: GF-B1-4 | G15: Single Slot | H15: 13.5 | I15: 52000 | J15: =H15*I15 -> 702000 | K15: 40000 | L15: 50000 | N15: =SUM(J15:M15) -> 792000 | O15: =N15*$O$10 -> 19800 | P15: =N15+O15 -> 811800 | Q15: =$Q$10 -> 0.0125 | R15: =P15*Q15 -> 10147.5 | S15: 0 | T15: =P15+R15+S15 -> 821947.5 | V15: =T15*$V$10 -> 30823.031 | W15: =T15+U15+V15 -> 852770.53 | Y15: =W15+X15 -> 852770.53 | AA15: =Y15+Z15 -> 852770.53 | AC15: =AA15+AB15 -> 852770.53 | AE15: =AC15+AD15 -> 852770.53 | AG15: =AE15+AF15 -> 852770.53 | AI15: =AG15+AH15 -> 852770.53 | AK15: =SUM(AI15:AJ15) -> 852770.53 | AM15: =SUM(AK15:AL15) -> 852770.53 | AO15: =AM15+AN15 -> 852770.53 | AQ15: =AO15+AP15 -> 852770.53 | AS15: =AQ15+AR15 -> 852770.53 | AT15: =AS15 -> 852770.53 | AU15: =AT15*$AU$10 -> 102332.46 | AV15: =AT15*$AV$10 -> 85277.053 | AW15: =SUM(AT15:AV15) -> 1040380 | AX15: 0.15 | AY15: =AW15*AX15 -> 156057.01 | AZ15: 10000 | BA15: =AY15-AZ15 -> 146057.01 | BB15: =$BB$7 -> 1 | BC15: =(AY15-AZ15)/BB15 -> 146057.01 | BD15: =100%-AX15 -> 0.85 | BE15: =AW15*BD15 -> 884323.04 | BF15: =-PMT($BF$10/12,180,BE15,0) -> 7948.5455 | BG15: =-PMT($BF$10/12,120,BE15,0) -> 10267.74 | BH15: =-PMT($BF$10/12,60,BE15,0) -> 17510.656 | BL15: =$BL$12 -> 45658 | BM15: =(YEAR(BL15)-YEAR($BM$10))*12+MONTH(BL15)-MONTH($BM$10) -> 15 | BO15: =BL15+65 -> 45723 | BP15: =(YEAR(BO15)-YEAR($BM$10))*12+MONTH(BO15)-MONTH($BM$10)+$BP$7 -> 17 | BS15: Step Up 2 | BV15: 0.35 | BW15: =BU12*BV15 -> 47771.106 | BX15: =BW15/BU15 -> #DIV/0! | CA15: SOLD | CB15: SOLD | CC15: =CA15=CB15 -> TRUE | CD15: SOLD | CE15: =CA15=CD15 -> TRUE | CF15: TSF B3 | CG15: 36 | CH15: =EDATE($BP$10,CG15) -> 46296 | CI15: 40 | CJ15: =EDATE(CJ10,CI15) -> 46266 | CK15: =CI15-CK10 -> 38 | CL15: =EDATE(CL10,CK15) -> 46266 | CM15: 40 | CN15: =EDATE(CN10,CM15) -> 46357 | CO15: 39 | CP15: =EDATE(CP10,CO15) -> 46357 | CQ15: =38+12 -> 50 | CR15: =EDATE(CR10,CQ15) -> 46722 | CS15: =CQ15-1 -> 49 | CT15: =EDATE(CT10,CS15) -> 46722 | CU15: =CS15-1 -> 48 | CV15: =EDATE(CV10,CU15) -> 46692 | CW15: =CU15-1 -> 47 | CX15: =EDATE(CX10,CW15) -> 46692 | CY15: =CW15-1 -> 46 | CZ15: =EDATE(CZ10,CY15) -> 46692 | DA15: =CY15-1 -> 45 | DB15: =EDATE(DB10,DA15) -> 46692 | DC15: 44 | DD15: 46692 | DE15: 43 | DF15: 46692 | DG15: 42 | DH15: 46692 | DI15: 41 | DJ15: 46692 | DK15: 40 | DL15: 46692 | DM15: =DK15-1 -> 39 | DN15: 46692 | DO15: =DM15-1 -> 38 | DP15: 46692 | DQ15: =DO15-1 -> 37 | DR15: 46692 | DS15: 31 | DT15: 46539 | DU15: =DS15-1 -> 30 | DV15: 46539 | DW15: =DU15-1 -> 29 | DX15: 46539 | DY15: 30 | DZ15: 46600 | EA15: =DY15-1 -> 29 | EB15: 46600 | EC15: =EA15-1 -> 28 | ED15: 46600 | EE15: 30 | EF15: 46661 | EG15: 32 | EH15: 46753 | EI15: =EG15-1 -> 31 | EJ15: 46753 | EK15: 33 | EL15: 46844 | EM15: 32 | EN15: 46844 | EO15: 31 | EP15: 46844 | EX15: =AW15 -> 1040380 | EY15: =AX15 -> 0.15 | EZ15: =AY15 -> 156057.01 | FA15: =AZ15 -> 10000 | FB15: =BA15 -> 146057.01 | FC15: =$FC$7 -> 25 | FD15: =FB15/FC15 -> 5842.2803 | FE15: =100%-EY15 -> 0.85 | FF15: =EX15*FE15 -> 884323.04 | FG15: =-PMT(7%/12,180,FF15,0) -> 7948.5455 | FH15: =-PMT(7%/12,120,FF15,0) -> 10267.74 | FI15: =-PMT(7%/12,60,FF15,0) -> 17510.656 | FK15: =FD15-BC15 -> -140214.73
A16: =A15+1 -> 5 | C16: Building 1 | D16: =D15+1 -> 5 | E16: Ground Floor | F16: GF-B1-5 | G16: Single Slot | H16: 13.5 | I16: 52000 | J16: =H16*I16 -> 702000 | K16: 40000 | L16: 50000 | N16: =SUM(J16:M16) -> 792000 | O16: =N16*$O$10 -> 19800 | P16: =N16+O16 -> 811800 | Q16: =$Q$10 -> 0.0125 | R16: =P16*Q16 -> 10147.5 | S16: 0 | T16: =P16+R16+S16 -> 821947.5 | V16: =T16*$V$10 -> 30823.031 | W16: =T16+U16+V16 -> 852770.53 | Y16: =W16+X16 -> 852770.53 | AA16: =Y16+Z16 -> 852770.53 | AC16: =AA16+AB16 -> 852770.53 | AE16: =AC16+AD16 -> 852770.53 | AG16: =AE16+AF16 -> 852770.53 | AI16: =AG16+AH16 -> 852770.53 | AK16: =SUM(AI16:AJ16) -> 852770.53 | AM16: =SUM(AK16:AL16) -> 852770.53 | AO16: =AM16+AN16 -> 852770.53 | AQ16: =AO16+AP16 -> 852770.53 | AS16: =AQ16+AR16 -> 852770.53 | AT16: =AS16 -> 852770.53 | AU16: =AT16*$AU$10 -> 102332.46 | AV16: =AT16*$AV$10 -> 85277.053 | AW16: =SUM(AT16:AV16) -> 1040380 | AX16: 0.15 | AY16: =AW16*AX16 -> 156057.01 | AZ16: 10000 | BA16: =AY16-AZ16 -> 146057.01 | BB16: =$BB$7 -> 1 | BC16: =(AY16-AZ16)/BB16 -> 146057.01 | BD16: =100%-AX16 -> 0.85 | BE16: =AW16*BD16 -> 884323.04 | BF16: =-PMT($BF$10/12,180,BE16,0) -> 7948.5455 | BG16: =-PMT($BF$10/12,120,BE16,0) -> 10267.74 | BH16: =-PMT($BF$10/12,60,BE16,0) -> 17510.656 | BL16: =$BL$12 -> 45658 | BM16: =(YEAR(BL16)-YEAR($BM$10))*12+MONTH(BL16)-MONTH($BM$10) -> 15 | BO16: =BL16+65 -> 45723 | BP16: =(YEAR(BO16)-YEAR($BM$10))*12+MONTH(BO16)-MONTH($BM$10)+$BP$7 -> 17 | BS16: Step Up 3 | BV16: 0.4 | BW16: =BU12*BV16 -> 54595.549 | BX16: =BW16/BU16 -> #DIV/0! | CA16: SOLD | CB16: SOLD | CC16: =CA16=CB16 -> TRUE | CD16: SOLD | CE16: =CA16=CD16 -> TRUE | EX16: =AW16 -> 1040380 | EY16: =AX16 -> 0.15 | EZ16: =AY16 -> 156057.01 | FA16: =AZ16 -> 10000 | FB16: =BA16 -> 146057.01 | FC16: =$FC$7 -> 25 | FD16: =FB16/FC16 -> 5842.2803 | FE16: =100%-EY16 -> 0.85 | FF16: =EX16*FE16 -> 884323.04 | FG16: =-PMT(7%/12,180,FF16,0) -> 7948.5455 | FH16: =-PMT(7%/12,120,FF16,0) -> 10267.74 | FI16: =-PMT(7%/12,60,FF16,0) -> 17510.656 | FK16: =FD16-BC16 -> -140214.73
A17: =A16+1 -> 6 | C17: Building 1 | D17: =D16+1 -> 6 | E17: Ground Floor | F17: GF-B1-6 | G17: Single Slot | H17: 13.5 | I17: 52000 | J17: =H17*I17 -> 702000 | K17: 40000 | L17: 30000 | N17: =SUM(J17:M17) -> 772000 | O17: =N17*$O$10 -> 19300 | P17: =N17+O17 -> 791300 | Q17: =$Q$10 -> 0.0125 | R17: =P17*Q17 -> 9891.25 | S17: 1495.557 | T17: =P17+R17+S17 -> 802686.81 | V17: =T17*$V$10 -> 30100.755 | W17: =T17+U17+V17 -> 832787.56 | Y17: =W17+X17 -> 832787.56 | AA17: =Y17+Z17 -> 832787.56 | AC17: =AA17+AB17 -> 832787.56 | AE17: =AC17+AD17 -> 832787.56 | AG17: =AE17+AF17 -> 832787.56 | AI17: =AG17+AH17 -> 832787.56 | AK17: =SUM(AI17:AJ17) -> 832787.56 | AM17: =SUM(AK17:AL17) -> 832787.56 | AO17: =AM17+AN17 -> 832787.56 | AQ17: =AO17+AP17 -> 832787.56 | AS17: =AQ17+AR17 -> 832787.56 | AT17: =AS17 -> 832787.56 | AU17: =AT17*$AU$10 -> 99934.507 | AV17: =AT17*$AV$10 -> 83278.756 | AW17: =SUM(AT17:AV17) -> 1016000.8 | AX17: 0.15 | AY17: =AW17*AX17 -> 152400.12 | AZ17: 10000 | BA17: =AY17-AZ17 -> 142400.12 | BB17: =$BB$7 -> 1 | BC17: =(AY17-AZ17)/BB17 -> 142400.12 | BD17: =100%-AX17 -> 0.85 | BE17: =AW17*BD17 -> 863600.7 | BF17: =-PMT($BF$10/12,180,BE17,0) -> 7762.2873 | BG17: =-PMT($BF$10/12,120,BE17,0) -> 10027.136 | BH17: =-PMT($BF$10/12,60,BE17,0) -> 17100.329 | BL17: =$BL$12 -> 45658 | BM17: =(YEAR(BL17)-YEAR($BM$10))*12+MONTH(BL17)-MONTH($BM$10) -> 15 | BO17: =BL17+65 -> 45723 | BP17: =(YEAR(BO17)-YEAR($BM$10))*12+MONTH(BO17)-MONTH($BM$10)+$BP$7 -> 17 | BS17: Total | BU17: =SUM(BU14:BU16) -> 0 | BV17: =SUM(BV14:BV16) -> 1 | BW17: =SUM(BW14:BW16) -> 136488.87 | CA17: SOLD | CB17: SOLD | CC17: =CA17=CB17 -> TRUE | CD17: SOLD | CE17: =CA17=CD17 -> TRUE | EX17: =AW17 -> 1016000.8 | EY17: =AX17 -> 0.15 | EZ17: =AY17 -> 152400.12 | FA17: =AZ17 -> 10000 | FB17: =BA17 -> 142400.12 | FC17: =$FC$7 -> 25 | FD17: =FB17/FC17 -> 5696.005 | FE17: =100%-EY17 -> 0.85 | FF17: =EX17*FE17 -> 863600.7 | FG17: =-PMT(7%/12,180,FF17,0) -> 7762.2873 | FH17: =-PMT(7%/12,120,FF17,0) -> 10027.136 | FI17: =-PMT(7%/12,60,FF17,0) -> 17100.329 | FK17: =FD17-BC17 -> -136704.12
A18: =A17+1 -> 7 | C18: Building 1 | D18: =D17+1 -> 7 | E18: Ground Floor | F18: GF-B1-7 | G18: Single Slot | H18: 13.5 | I18: 52000 | J18: =H18*I18 -> 702000 | K18: 40000 | L18: 30000 | N18: =SUM(J18:M18) -> 772000 | O18: =N18*$O$10 -> 19300 | P18: =N18+O18 -> 791300 | Q18: =$Q$10 -> 0.0125 | R18: =P18*Q18 -> 9891.25 | S18: 0 | T18: =P18+R18+S18 -> 801191.25 | V18: =T18*$V$10 -> 30044.672 | W18: =T18+U18+V18 -> 831235.92 | Y18: =W18+X18 -> 831235.92 | AA18: =Y18+Z18 -> 831235.92 | AC18: =AA18+AB18 -> 831235.92 | AE18: =AC18+AD18 -> 831235.92 | AG18: =AE18+AF18 -> 831235.92 | AI18: =AG18+AH18 -> 831235.92 | AK18: =SUM(AI18:AJ18) -> 831235.92 | AM18: =SUM(AK18:AL18) -> 831235.92 | AO18: =AM18+AN18 -> 831235.92 | AQ18: =AO18+AP18 -> 831235.92 | AS18: =AQ18+AR18 -> 831235.92 | AT18: =AS18 -> 831235.92 | AU18: =AT18*$AU$10 -> 99748.311 | AV18: =AT18*$AV$10 -> 83123.592 | AW18: =SUM(AT18:AV18) -> 1014107.8 | AX18: 0.15 | AY18: =AW18*AX18 -> 152116.17 | AZ18: 10000 | BA18: =AY18-AZ18 -> 142116.17 | BB18: =$BB$7 -> 1 | BC18: =(AY18-AZ18)/BB18 -> 142116.17 | BD18: =100%-AX18 -> 0.85 | BE18: =AW18*BD18 -> 861991.65 | BF18: =-PMT($BF$10/12,180,BE18,0) -> 7747.8247 | BG18: =-PMT($BF$10/12,120,BE18,0) -> 10008.454 | BH18: =-PMT($BF$10/12,60,BE18,0) -> 17068.468 | BL18: =$BL$12 -> 45658 | BM18: =(YEAR(BL18)-YEAR($BM$10))*12+MONTH(BL18)-MONTH($BM$10) -> 15 | BO18: =BL18+65 -> 45723 | BP18: =(YEAR(BO18)-YEAR($BM$10))*12+MONTH(BO18)-MONTH($BM$10)+$BP$7 -> 17 | CA18: SOLD | CB18: SOLD | CC18: =CA18=CB18 -> TRUE | CD18: SOLD | CE18: =CA18=CD18 -> TRUE | EX18: =AW18 -> 1014107.8 | EY18: =AX18 -> 0.15 | EZ18: =AY18 -> 152116.17 | FA18: =AZ18 -> 10000 | FB18: =BA18 -> 142116.17 | FC18: =$FC$7 -> 25 | FD18: =FB18/FC18 -> 5684.6469 | FE18: =100%-EY18 -> 0.85 | FF18: =EX18*FE18 -> 861991.65 | FG18: =-PMT(7%/12,180,FF18,0) -> 7747.8247 | FH18: =-PMT(7%/12,120,FF18,0) -> 10008.454 | FI18: =-PMT(7%/12,60,FF18,0) -> 17068.468 | FK18: =FD18-BC18 -> -136431.53
A19: =A18+1 -> 8 | C19: Building 1 | D19: =D18+1 -> 8 | E19: Ground Floor | F19: GF-B1-8 | G19: Single Slot | H19: 13.5 | I19: 52000 | J19: =H19*I19 -> 702000 | K19: 40000 | L19: 30000 | N19: =SUM(J19:M19) -> 772000 | O19: =N19*$O$10 -> 19300 | P19: =N19+O19 -> 791300 | Q19: =$Q$10 -> 0.0125 | R19: =P19*Q19 -> 9891.25 | S19: 0 | T19: =P19+R19+S19 -> 801191.25 | V19: =T19*$V$10 -> 30044.672 | W19: =T19+U19+V19 -> 831235.92 | Y19: =W19+X19 -> 831235.92 | AA19: =Y19+Z19 -> 831235.92 | AC19: =AA19+AB19 -> 831235.92 | AE19: =AC19+AD19 -> 831235.92 | AG19: =AE19+AF19 -> 831235.92 | AI19: =AG19+AH19 -> 831235.92 | AK19: =SUM(AI19:AJ19) -> 831235.92 | AM19: =SUM(AK19:AL19) -> 831235.92 | AO19: =AM19+AN19 -> 831235.92 | AQ19: =AO19+AP19 -> 831235.92 | AS19: =AQ19+AR19 -> 831235.92 | AT19: =AS19 -> 831235.92 | AU19: =AT19*$AU$10 -> 99748.311 | AV19: =AT19*$AV$10 -> 83123.592 | AW19: =SUM(AT19:AV19) -> 1014107.8 | AX19: 0.15 | AY19: =AW19*AX19 -> 152116.17 | AZ19: 10000 | BA19: =AY19-AZ19 -> 142116.17 | BB19: =$BB$7 -> 1 | BC19: =(AY19-AZ19)/BB19 -> 142116.17 | BD19: =100%-AX19 -> 0.85 | BE19: =AW19*BD19 -> 861991.65 | BF19: =-PMT($BF$10/12,180,BE19,0) -> 7747.8247 | BG19: =-PMT($BF$10/12,120,BE19,0) -> 10008.454 | BH19: =-PMT($BF$10/12,60,BE19,0) -> 17068.468 | BL19: =$BL$12 -> 45658 | BM19: =(YEAR(BL19)-YEAR($BM$10))*12+MONTH(BL19)-MONTH($BM$10) -> 15 | BO19: =BL19+65 -> 45723 | BP19: =(YEAR(BO19)-YEAR($BM$10))*12+MONTH(BO19)-MONTH($BM$10)+$BP$7 -> 17 | CA19: SOLD | CB19: SOLD | CC19: =CA19=CB19 -> TRUE | CD19: SOLD | CE19: =CA19=CD19 -> TRUE | EX19: =AW19 -> 1014107.8 | EY19: =AX19 -> 0.15 | EZ19: =AY19 -> 152116.17 | FA19: =AZ19 -> 10000 | FB19: =BA19 -> 142116.17 | FC19: =$FC$7 -> 25 | FD19: =FB19/FC19 -> 5684.6469 | FE19: =100%-EY19 -> 0.85 | FF19: =EX19*FE19 -> 861991.65 | FG19: =-PMT(7%/12,180,FF19,0) -> 7747.8247 | FH19: =-PMT(7%/12,120,FF19,0) -> 10008.454 | FI19: =-PMT(7%/12,60,FF19,0) -> 17068.468 | FK19: =FD19-BC19 -> -136431.53
A20: =A19+1 -> 9 | C20: Building 1 | D20: =D19+1 -> 9 | E20: Ground Floor | F20: GF-B1-9 | G20: Single Slot | H20: 13.5 | I20: 52000 | J20: =H20*I20 -> 702000 | K20: 40000 | L20: 30000 | N20: =SUM(J20:M20) -> 772000 | O20: =N20*$O$10 -> 19300 | P20: =N20+O20 -> 791300 | Q20: =$Q$10 -> 0.0125 | R20: =P20*Q20 -> 9891.25 | S20: 0 | T20: =P20+R20+S20 -> 801191.25 | V20: =T20*$V$10 -> 30044.672 | W20: =T20+U20+V20 -> 831235.92 | Y20: =W20+X20 -> 831235.92 | AA20: =Y20+Z20 -> 831235.92 | AC20: =AA20+AB20 -> 831235.92 | AE20: =AC20+AD20 -> 831235.92 | AG20: =AE20+AF20 -> 831235.92 | AI20: =AG20+AH20 -> 831235.92 | AK20: =SUM(AI20:AJ20) -> 831235.92 | AM20: =SUM(AK20:AL20) -> 831235.92 | AO20: =AM20+AN20 -> 831235.92 | AQ20: =AO20+AP20 -> 831235.92 | AS20: =AQ20+AR20 -> 831235.92 | AT20: =AS20 -> 831235.92 | AU20: =AT20*$AU$10 -> 99748.311 | AV20: =AT20*$AV$10 -> 83123.592 | AW20: =SUM(AT20:AV20) -> 1014107.8 | AX20: 0.15 | AY20: =AW20*AX20 -> 152116.17 | AZ20: 10000 | BA20: =AY20-AZ20 -> 142116.17 | BB20: =$BB$7 -> 1 | BC20: =(AY20-AZ20)/BB20 -> 142116.17 | BD20: =100%-AX20 -> 0.85 | BE20: =AW20*BD20 -> 861991.65 | BF20: =-PMT($BF$10/12,180,BE20,0) -> 7747.8247 | BG20: =-PMT($BF$10/12,120,BE20,0) -> 10008.454 | BH20: =-PMT($BF$10/12,60,BE20,0) -> 17068.468 | BL20: =$BL$12 -> 45658 | BM20: =(YEAR(BL20)-YEAR($BM$10))*12+MONTH(BL20)-MONTH($BM$10) -> 15 | BO20: =BL20+65 -> 45723 | BP20: =(YEAR(BO20)-YEAR($BM$10))*12+MONTH(BO20)-MONTH($BM$10)+$BP$7 -> 17 | CA20: SOLD | CB20: SOLD | CC20: =CA20=CB20 -> TRUE | CD20: SOLD | CE20: =CA20=CD20 -> TRUE | EX20: =AW20 -> 1014107.8 | EY20: =AX20 -> 0.15 | EZ20: =AY20 -> 152116.17 | FA20: =AZ20 -> 10000 | FB20: =BA20 -> 142116.17 | FC20: =$FC$7 -> 25 | FD20: =FB20/FC20 -> 5684.6469 | FE20: =100%-EY20 -> 0.85 | FF20: =EX20*FE20 -> 861991.65 | FG20: =-PMT(7%/12,180,FF20,0) -> 7747.8247 | FH20: =-PMT(7%/12,120,FF20,0) -> 10008.454 | FI20: =-PMT(7%/12,60,FF20,0) -> 17068.468 | FK20: =FD20-BC20 -> -136431.53
A21: =A20+1 -> 10 | C21: Building 1 | D21: =D20+1 -> 10 | E21: Ground Floor | F21: GF-B1-10 | G21: Single Slot | H21: 13.5 | I21: 52000 | J21: =H21*I21 -> 702000 | K21: 40000 | L21: 30000 | N21: =SUM(J21:M21) -> 772000 | O21: =N21*$O$10 -> 19300 | P21: =N21+O21 -> 791300 | Q21: =$Q$10 -> 0.0125 | R21: =P21*Q21 -> 9891.25 | S21: 0 | T21: =P21+R21+S21 -> 801191.25 | V21: =T21*$V$10 -> 30044.672 | W21: =T21+U21+V21 -> 831235.92 | Y21: =W21+X21 -> 831235.92 | AA21: =Y21+Z21 -> 831235.92 | AC21: =AA21+AB21 -> 831235.92 | AE21: =AC21+AD21 -> 831235.92 | AG21: =AE21+AF21 -> 831235.92 | AI21: =AG21+AH21 -> 831235.92 | AK21: =SUM(AI21:AJ21) -> 831235.92 | AM21: =SUM(AK21:AL21) -> 831235.92 | AO21: =AM21+AN21 -> 831235.92 | AQ21: =AO21+AP21 -> 831235.92 | AS21: =AQ21+AR21 -> 831235.92 | AT21: =AS21 -> 831235.92 | AU21: =AT21*$AU$10 -> 99748.311 | AV21: =AT21*$AV$10 -> 83123.592 | AW21: =SUM(AT21:AV21) -> 1014107.8 | AX21: 0.15 | AY21: =AW21*AX21 -> 152116.17 | AZ21: 10000 | BA21: =AY21-AZ21 -> 142116.17 | BB21: =$BB$7 -> 1 | BC21: =(AY21-AZ21)/BB21 -> 142116.17 | BD21: =100%-AX21 -> 0.85 | BE21: =AW21*BD21 -> 861991.65 | BF21: =-PMT($BF$10/12,180,BE21,0) -> 7747.8247 | BG21: =-PMT($BF$10/12,120,BE21,0) -> 10008.454 | BH21: =-PMT($BF$10/12,60,BE21,0) -> 17068.468 | BL21: =$BL$12 -> 45658 | BM21: =(YEAR(BL21)-YEAR($BM$10))*12+MONTH(BL21)-MONTH($BM$10) -> 15 | BO21: =BL21+65 -> 45723 | BP21: =(YEAR(BO21)-YEAR($BM$10))*12+MONTH(BO21)-MONTH($BM$10)+$BP$7 -> 17 | BT21: Edit every month | CA21: SOLD | CB21: SOLD | CC21: =CA21=CB21 -> TRUE | CD21: SOLD | CE21: =CA21=CD21 -> TRUE | EX21: =AW21 -> 1014107.8 | EY21: =AX21 -> 0.15 | EZ21: =AY21 -> 152116.17 | FA21: =AZ21 -> 10000 | FB21: =BA21 -> 142116.17 | FC21: =$FC$7 -> 25 | FD21: =FB21/FC21 -> 5684.6469 | FE21: =100%-EY21 -> 0.85 | FF21: =EX21*FE21 -> 861991.65 | FG21: =-PMT(7%/12,180,FF21,0) -> 7747.8247 | FH21: =-PMT(7%/12,120,FF21,0) -> 10008.454 | FI21: =-PMT(7%/12,60,FF21,0) -> 17068.468 | FK21: =FD21-BC21 -> -136431.53
A22: =A21+1 -> 11 | C22: Building 1 | D22: =D21+1 -> 11 | E22: Ground Floor | F22: GF-B1-11 | G22: Single Slot | H22: 13.5 | I22: 52000 | J22: =H22*I22 -> 702000 | K22: 40000 | L22: 30000 | N22: =SUM(J22:M22) -> 772000 | O22: =N22*$O$10 -> 19300 | P22: =N22+O22 -> 791300 | Q22: =$Q$10 -> 0.0125 | R22: =P22*Q22 -> 9891.25 | S22: 0 | T22: =P22+R22+S22 -> 801191.25 | V22: =T22*$V$10 -> 30044.672 | W22: =T22+U22+V22 -> 831235.92 | Y22: =W22+X22 -> 831235.92 | AA22: =Y22+Z22 -> 831235.92 | AC22: =AA22+AB22 -> 831235.92 | AE22: =AC22+AD22 -> 831235.92 | AG22: =AE22+AF22 -> 831235.92 | AI22: =AG22+AH22 -> 831235.92 | AK22: =SUM(AI22:AJ22) -> 831235.92 | AM22: =SUM(AK22:AL22) -> 831235.92 | AO22: =AM22+AN22 -> 831235.92 | AQ22: =AO22+AP22 -> 831235.92 | AS22: =AQ22+AR22 -> 831235.92 | AT22: =AS22 -> 831235.92 | AU22: =AT22*$AU$10 -> 99748.311 | AV22: =AT22*$AV$10 -> 83123.592 | AW22: =SUM(AT22:AV22) -> 1014107.8 | AX22: 0.15 | AY22: =AW22*AX22 -> 152116.17 | AZ22: 10000 | BA22: =AY22-AZ22 -> 142116.17 | BB22: =$BB$7 -> 1 | BC22: =(AY22-AZ22)/BB22 -> 142116.17 | BD22: =100%-AX22 -> 0.85 | BE22: =AW22*BD22 -> 861991.65 | BF22: =-PMT($BF$10/12,180,BE22,0) -> 7747.8247 | BG22: =-PMT($BF$10/12,120,BE22,0) -> 10008.454 | BH22: =-PMT($BF$10/12,60,BE22,0) -> 17068.468 | BL22: =$BL$12 -> 45658 | BM22: =(YEAR(BL22)-YEAR($BM$10))*12+MONTH(BL22)-MONTH($BM$10) -> 15 | BO22: =BL22+65 -> 45723 | BP22: =(YEAR(BO22)-YEAR($BM$10))*12+MONTH(BO22)-MONTH($BM$10)+$BP$7 -> 17 | BS22: For step up w/ lumpsum & 2.5% lumpsum | BT22: less: Lumpsum Payment | CA22: SOLD | CB22: SOLD | CC22: =CA22=CB22 -> TRUE | CD22: SOLD | CE22: =CA22=CD22 -> TRUE | EX22: =AW22 -> 1014107.8 | EY22: =AX22 -> 0.15 | EZ22: =AY22 -> 152116.17 | FA22: =AZ22 -> 10000 | FB22: =BA22 -> 142116.17 | FC22: =$FC$7 -> 25 | FD22: =FB22/FC22 -> 5684.6469 | FE22: =100%-EY22 -> 0.85 | FF22: =EX22*FE22 -> 861991.65 | FG22: =-PMT(7%/12,180,FF22,0) -> 7747.8247 | FH22: =-PMT(7%/12,120,FF22,0) -> 10008.454 | FI22: =-PMT(7%/12,60,FF22,0) -> 17068.468 | FK22: =FD22-BC22 -> -136431.53
A23: =A22+1 -> 12 | C23: Building 1 | D23: =D22+1 -> 12 | E23: Ground Floor | F23: GF-B1-12 | G23: Single Slot | H23: 13.5 | I23: 52000 | J23: =H23*I23 -> 702000 | K23: 40000 | L23: 30000 | N23: =SUM(J23:M23) -> 772000 | O23: =N23*$O$10 -> 19300 | P23: =N23+O23 -> 791300 | Q23: =$Q$10 -> 0.0125 | R23: =P23*Q23 -> 9891.25 | S23: 1495.557 | T23: =P23+R23+S23 -> 802686.81 | V23: =T23*$V$10 -> 30100.755 | W23: =T23+U23+V23 -> 832787.56 | Y23: =W23+X23 -> 832787.56 | AA23: =Y23+Z23 -> 832787.56 | AC23: =AA23+AB23 -> 832787.56 | AE23: =AC23+AD23 -> 832787.56 | AG23: =AE23+AF23 -> 832787.56 | AI23: =AG23+AH23 -> 832787.56 | AK23: =SUM(AI23:AJ23) -> 832787.56 | AM23: =SUM(AK23:AL23) -> 832787.56 | AO23: =AM23+AN23 -> 832787.56 | AQ23: =AO23+AP23 -> 832787.56 | AS23: =AQ23+AR23 -> 832787.56 | AT23: =AS23 -> 832787.56 | AU23: =AT23*$AU$10 -> 99934.507 | AV23: =AT23*$AV$10 -> 83278.756 | AW23: =SUM(AT23:AV23) -> 1016000.8 | AX23: 0.15 | AY23: =AW23*AX23 -> 152400.12 | AZ23: 10000 | BA23: =AY23-AZ23 -> 142400.12 | BB23: =$BB$7 -> 1 | BC23: =(AY23-AZ23)/BB23 -> 142400.12 | BD23: =100%-AX23 -> 0.85 | BE23: =AW23*BD23 -> 863600.7 | BF23: =-PMT($BF$10/12,180,BE23,0) -> 7762.2873 | BG23: =-PMT($BF$10/12,120,BE23,0) -> 10027.136 | BH23: =-PMT($BF$10/12,60,BE23,0) -> 17100.329 | BL23: =$BL$12 -> 45658 | BM23: =(YEAR(BL23)-YEAR($BM$10))*12+MONTH(BL23)-MONTH($BM$10) -> 15 | BO23: =BL23+65 -> 45723 | BP23: =(YEAR(BO23)-YEAR($BM$10))*12+MONTH(BO23)-MONTH($BM$10)+$BP$7 -> 17 | CA23: UNSOLD | CB23: UNSOLD | CC23: =CA23=CB23 -> TRUE | CD23: UNSOLD | CE23: =CA23=CD23 -> TRUE | EX23: =AW23 -> 1016000.8 | EY23: =AX23 -> 0.15 | EZ23: =AY23 -> 152400.12 | FA23: =AZ23 -> 10000 | FB23: =BA23 -> 142400.12 | FC23: =$FC$7 -> 25 | FD23: =FB23/FC23 -> 5696.005 | FE23: =100%-EY23 -> 0.85 | FF23: =EX23*FE23 -> 863600.7 | FG23: =-PMT(7%/12,180,FF23,0) -> 7762.2873 | FH23: =-PMT(7%/12,120,FF23,0) -> 10027.136 | FI23: =-PMT(7%/12,60,FF23,0) -> 17100.329 | FK23: =FD23-BC23 -> -136704.12
A24: =A23+1 -> 13 | C24: Building 1 | D24: =D23+1 -> 13 | E24: Ground Floor | F24: GF-B1-13 | G24: Single Slot | H24: 13.5 | I24: 52000 | J24: =H24*I24 -> 702000 | K24: 40000 | L24: 30000 | N24: =SUM(J24:M24) -> 772000 | O24: =N24*$O$10 -> 19300 | P24: =N24+O24 -> 791300 | Q24: =$Q$10 -> 0.0125 | R24: =P24*Q24 -> 9891.25 | S24: 1495.557 | T24: =P24+R24+S24 -> 802686.81 | V24: =T24*$V$10 -> 30100.755 | W24: =T24+U24+V24 -> 832787.56 | Y24: =W24+X24 -> 832787.56 | AA24: =Y24+Z24 -> 832787.56 | AC24: =AA24+AB24 -> 832787.56 | AE24: =AC24+AD24 -> 832787.56 | AG24: =AE24+AF24 -> 832787.56 | AI24: =AG24+AH24 -> 832787.56 | AK24: =SUM(AI24:AJ24) -> 832787.56 | AM24: =SUM(AK24:AL24) -> 832787.56 | AO24: =AM24+AN24 -> 832787.56 | AQ24: =AO24+AP24 -> 832787.56 | AS24: =AQ24+AR24 -> 832787.56 | AT24: =AS24 -> 832787.56 | AU24: =AT24*$AU$10 -> 99934.507 | AV24: =AT24*$AV$10 -> 83278.756 | AW24: =SUM(AT24:AV24) -> 1016000.8 | AX24: 0.15 | AY24: =AW24*AX24 -> 152400.12 | AZ24: 10000 | BA24: =AY24-AZ24 -> 142400.12 | BB24: =$BB$7 -> 1 | BC24: =(AY24-AZ24)/BB24 -> 142400.12 | BD24: =100%-AX24 -> 0.85 | BE24: =AW24*BD24 -> 863600.7 | BF24: =-PMT($BF$10/12,180,BE24,0) -> 7762.2873 | BG24: =-PMT($BF$10/12,120,BE24,0) -> 10027.136 | BH24: =-PMT($BF$10/12,60,BE24,0) -> 17100.329 | BL24: =$BL$12 -> 45658 | BM24: =(YEAR(BL24)-YEAR($BM$10))*12+MONTH(BL24)-MONTH($BM$10) -> 15 | BO24: =BL24+65 -> 45723 | BP24: =(YEAR(BO24)-YEAR($BM$10))*12+MONTH(BO24)-MONTH($BM$10)+$BP$7 -> 17 | BS24: Step Up: | BT24: Step-up | CA24: UNSOLD | CB24: UNSOLD | CC24: =CA24=CB24 -> TRUE | CD24: UNSOLD | CE24: =CA24=CD24 -> TRUE | EX24: =AW24 -> 1016000.8 | EY24: =AX24 -> 0.15 | EZ24: =AY24 -> 152400.12 | FA24: =AZ24 -> 10000 | FB24: =BA24 -> 142400.12 | FC24: =$FC$7 -> 25 | FD24: =FB24/FC24 -> 5696.005 | FE24: =100%-EY24 -> 0.85 | FF24: =EX24*FE24 -> 863600.7 | FG24: =-PMT(7%/12,180,FF24,0) -> 7762.2873 | FH24: =-PMT(7%/12,120,FF24,0) -> 10027.136 | FI24: =-PMT(7%/12,60,FF24,0) -> 17100.329 | FK24: =FD24-BC24 -> -136704.12
A25: =A24+1 -> 14 | C25: Building 1 | D25: =D24+1 -> 14 | E25: Ground Floor | F25: GF-B1-14 | G25: Single Slot | H25: 13.5 | I25: 52000 | J25: =H25*I25 -> 702000 | K25: 40000 | L25: 30000 | N25: =SUM(J25:M25) -> 772000 | O25: =N25*$O$10 -> 19300 | P25: =N25+O25 -> 791300 | Q25: =$Q$10 -> 0.0125 | R25: =P25*Q25 -> 9891.25 | S25: 1495.557 | T25: =P25+R25+S25 -> 802686.81 | V25: =T25*$V$10 -> 30100.755 | W25: =T25+U25+V25 -> 832787.56 | Y25: =W25+X25 -> 832787.56 | AA25: =Y25+Z25 -> 832787.56 | AC25: =AA25+AB25 -> 832787.56 | AE25: =AC25+AD25 -> 832787.56 | AG25: =AE25+AF25 -> 832787.56 | AI25: =AG25+AH25 -> 832787.56 | AK25: =SUM(AI25:AJ25) -> 832787.56 | AM25: =SUM(AK25:AL25) -> 832787.56 | AO25: =AM25+AN25 -> 832787.56 | AQ25: =AO25+AP25 -> 832787.56 | AS25: =AQ25+AR25 -> 832787.56 | AT25: =AS25 -> 832787.56 | AU25: =AT25*$AU$10 -> 99934.507 | AV25: =AT25*$AV$10 -> 83278.756 | AW25: =SUM(AT25:AV25) -> 1016000.8 | AX25: 0.15 | AY25: =AW25*AX25 -> 152400.12 | AZ25: 10000 | BA25: =AY25-AZ25 -> 142400.12 | BB25: =$BB$7 -> 1 | BC25: =(AY25-AZ25)/BB25 -> 142400.12 | BD25: =100%-AX25 -> 0.85 | BE25: =AW25*BD25 -> 863600.7 | BF25: =-PMT($BF$10/12,180,BE25,0) -> 7762.2873 | BG25: =-PMT($BF$10/12,120,BE25,0) -> 10027.136 | BH25: =-PMT($BF$10/12,60,BE25,0) -> 17100.329 | BL25: =$BL$12 -> 45658 | BM25: =(YEAR(BL25)-YEAR($BM$10))*12+MONTH(BL25)-MONTH($BM$10) -> 15 | BO25: =BL25+65 -> 45723 | BP25: =(YEAR(BO25)-YEAR($BM$10))*12+MONTH(BO25)-MONTH($BM$10)+$BP$7 -> 17 | BS25: Step Up w/ 2.5%: | BT25: Step-up, 2.5% Lumpsum | CA25: UNSOLD | CB25: UNSOLD | CC25: =CA25=CB25 -> TRUE | CD25: UNSOLD | CE25: =CA25=CD25 -> TRUE | EX25: =AW25 -> 1016000.8 | EY25: =AX25 -> 0.15 | EZ25: =AY25 -> 152400.12 | FA25: =AZ25 -> 10000 | FB25: =BA25 -> 142400.12 | FC25: =$FC$7 -> 25 | FD25: =FB25/FC25 -> 5696.005 | FE25: =100%-EY25 -> 0.85 | FF25: =EX25*FE25 -> 863600.7 | FG25: =-PMT(7%/12,180,FF25,0) -> 7762.2873 | FH25: =-PMT(7%/12,120,FF25,0) -> 10027.136 | FI25: =-PMT(7%/12,60,FF25,0) -> 17100.329 | FK25: =FD25-BC25 -> -136704.12
A26: =A25+1 -> 15 | C26: Building 1 | D26: =D25+1 -> 15 | E26: Ground Floor | F26: GF-B1-15 | G26: Single Slot | H26: 13.5 | I26: 52000 | J26: =H26*I26 -> 702000 | K26: 40000 | L26: 30000 | N26: =SUM(J26:M26) -> 772000 | O26: =N26*$O$10 -> 19300 | P26: =N26+O26 -> 791300 | Q26: =$Q$10 -> 0.0125 | R26: =P26*Q26 -> 9891.25 | S26: 1495.557 | T26: =P26+R26+S26 -> 802686.81 | V26: =T26*$V$10 -> 30100.755 | W26: =T26+U26+V26 -> 832787.56 | Y26: =W26+X26 -> 832787.56 | AA26: =Y26+Z26 -> 832787.56 | AC26: =AA26+AB26 -> 832787.56 | AE26: =AC26+AD26 -> 832787.56 | AG26: =AE26+AF26 -> 832787.56 | AI26: =AG26+AH26 -> 832787.56 | AK26: =SUM(AI26:AJ26) -> 832787.56 | AM26: =SUM(AK26:AL26) -> 832787.56 | AO26: =AM26+AN26 -> 832787.56 | AQ26: =AO26+AP26 -> 832787.56 | AS26: =AQ26+AR26 -> 832787.56 | AT26: =AS26 -> 832787.56 | AU26: =AT26*$AU$10 -> 99934.507 | AV26: =AT26*$AV$10 -> 83278.756 | AW26: =SUM(AT26:AV26) -> 1016000.8 | AX26: 0.15 | AY26: =AW26*AX26 -> 152400.12 | AZ26: 10000 | BA26: =AY26-AZ26 -> 142400.12 | BB26: =$BB$7 -> 1 | BC26: =(AY26-AZ26)/BB26 -> 142400.12 | BD26: =100%-AX26 -> 0.85 | BE26: =AW26*BD26 -> 863600.7 | BF26: =-PMT($BF$10/12,180,BE26,0) -> 7762.2873 | BG26: =-PMT($BF$10/12,120,BE26,0) -> 10027.136 | BH26: =-PMT($BF$10/12,60,BE26,0) -> 17100.329 | BL26: =$BL$12 -> 45658 | BM26: =(YEAR(BL26)-YEAR($BM$10))*12+MONTH(BL26)-MONTH($BM$10) -> 15 | BO26: =BL26+65 -> 45723 | BP26: =(YEAR(BO26)-YEAR($BM$10))*12+MONTH(BO26)-MONTH($BM$10)+$BP$7 -> 17 | BS26: w/ 2.5% Lumpsum: | BT26: Equity spread, 2.5% Lumpsum | CA26: UNSOLD | CB26: UNSOLD | CC26: =CA26=CB26 -> TRUE | CD26: UNSOLD | CE26: =CA26=CD26 -> TRUE | EX26: =AW26 -> 1016000.8 | EY26: =AX26 -> 0.15 | EZ26: =AY26 -> 152400.12 | FA26: =AZ26 -> 10000 | FB26: =BA26 -> 142400.12 | FC26: =$FC$7 -> 25 | FD26: =FB26/FC26 -> 5696.005 | FE26: =100%-EY26 -> 0.85 | FF26: =EX26*FE26 -> 863600.7 | FG26: =-PMT(7%/12,180,FF26,0) -> 7762.2873 | FH26: =-PMT(7%/12,120,FF26,0) -> 10027.136 | FI26: =-PMT(7%/12,60,FF26,0) -> 17100.329 | FK26: =FD26-BC26 -> -136704.12
A27: =A26+1 -> 16 | C27: Building 1 | D27: =D26+1 -> 16 | E27: Ground Floor | F27: GF-B1-16 | G27: Single Slot | H27: 13.5 | I27: 52000 | J27: =H27*I27 -> 702000 | K27: 40000 | L27: 30000 | N27: =SUM(J27:M27) -> 772000 | O27: =N27*$O$10 -> 19300 | P27: =N27+O27 -> 791300 | Q27: =$Q$10 -> 0.0125 | R27: =P27*Q27 -> 9891.25 | S27: 0 | T27: =P27+R27+S27 -> 801191.25 | V27: =T27*$V$10 -> 30044.672 | W27: =T27+U27+V27 -> 831235.92 | Y27: =W27+X27 -> 831235.92 | AA27: =Y27+Z27 -> 831235.92 | AC27: =AA27+AB27 -> 831235.92 | AE27: =AC27+AD27 -> 831235.92 | AG27: =AE27+AF27 -> 831235.92 | AI27: =AG27+AH27 -> 831235.92 | AK27: =SUM(AI27:AJ27) -> 831235.92 | AM27: =SUM(AK27:AL27) -> 831235.92 | AO27: =AM27+AN27 -> 831235.92 | AQ27: =AO27+AP27 -> 831235.92 | AS27: =AQ27+AR27 -> 831235.92 | AT27: =AS27 -> 831235.92 | AU27: =AT27*$AU$10 -> 99748.311 | AV27: =AT27*$AV$10 -> 83123.592 | AW27: =SUM(AT27:AV27) -> 1014107.8 | AX27: 0.15 | AY27: =AW27*AX27 -> 152116.17 | AZ27: 10000 | BA27: =AY27-AZ27 -> 142116.17 | BB27: =$BB$7 -> 1 | BC27: =(AY27-AZ27)/BB27 -> 142116.17 | BD27: =100%-AX27 -> 0.85 | BE27: =AW27*BD27 -> 861991.65 | BF27: =-PMT($BF$10/12,180,BE27,0) -> 7747.8247 | BG27: =-PMT($BF$10/12,120,BE27,0) -> 10008.454 | BH27: =-PMT($BF$10/12,60,BE27,0) -> 17068.468 | BL27: =$BL$12 -> 45658 | BM27: =(YEAR(BL27)-YEAR($BM$10))*12+MONTH(BL27)-MONTH($BM$10) -> 15 | BO27: =BL27+65 -> 45723 | BP27: =(YEAR(BO27)-YEAR($BM$10))*12+MONTH(BO27)-MONTH($BM$10)+$BP$7 -> 17 | CA27: SOLD | CB27: SOLD | CC27: =CA27=CB27 -> TRUE | CD27: SOLD | CE27: =CA27=CD27 -> TRUE | EX27: =AW27 -> 1014107.8 | EY27: =AX27 -> 0.15 | EZ27: =AY27 -> 152116.17 | FA27: =AZ27 -> 10000 | FB27: =BA27 -> 142116.17 | FC27: =$FC$7 -> 25 | FD27: =FB27/FC27 -> 5684.6469 | FE27: =100%-EY27 -> 0.85 | FF27: =EX27*FE27 -> 861991.65 | FG27: =-PMT(7%/12,180,FF27,0) -> 7747.8247 | FH27: =-PMT(7%/12,120,FF27,0) -> 10008.454 | FI27: =-PMT(7%/12,60,FF27,0) -> 17068.468 | FK27: =FD27-BC27 -> -136431.53
A28: =A27+1 -> 17 | C28: Building 1 | D28: =D27+1 -> 17 | E28: Ground Floor | F28: GF-B1-17 | G28: Single Slot | H28: 13.5 | I28: 52000 | J28: =H28*I28 -> 702000 | K28: 40000 | L28: 30000 | N28: =SUM(J28:M28) -> 772000 | O28: =N28*$O$10 -> 19300 | P28: =N28+O28 -> 791300 | Q28: =$Q$10 -> 0.0125 | R28: =P28*Q28 -> 9891.25 | S28: 1495.557 | T28: =P28+R28+S28 -> 802686.81 | V28: =T28*$V$10 -> 30100.755 | W28: =T28+U28+V28 -> 832787.56 | Y28: =W28+X28 -> 832787.56 | AA28: =Y28+Z28 -> 832787.56 | AC28: =AA28+AB28 -> 832787.56 | AE28: =AC28+AD28 -> 832787.56 | AG28: =AE28+AF28 -> 832787.56 | AI28: =AG28+AH28 -> 832787.56 | AK28: =SUM(AI28:AJ28) -> 832787.56 | AM28: =SUM(AK28:AL28) -> 832787.56 | AO28: =AM28+AN28 -> 832787.56 | AQ28: =AO28+AP28 -> 832787.56 | AS28: =AQ28+AR28 -> 832787.56 | AT28: =AS28 -> 832787.56 | AU28: =AT28*$AU$10 -> 99934.507 | AV28: =AT28*$AV$10 -> 83278.756 | AW28: =SUM(AT28:AV28) -> 1016000.8 | AX28: 0.15 | AY28: =AW28*AX28 -> 152400.12 | AZ28: 10000 | BA28: =AY28-AZ28 -> 142400.12 | BB28: =$BB$7 -> 1 | BC28: =(AY28-AZ28)/BB28 -> 142400.12 | BD28: =100%-AX28 -> 0.85 | BE28: =AW28*BD28 -> 863600.7 | BF28: =-PMT($BF$10/12,180,BE28,0) -> 7762.2873 | BG28: =-PMT($BF$10/12,120,BE28,0) -> 10027.136 | BH28: =-PMT($BF$10/12,60,BE28,0) -> 17100.329 | BL28: =$BL$12 -> 45658 | BM28: =(YEAR(BL28)-YEAR($BM$10))*12+MONTH(BL28)-MONTH($BM$10) -> 15 | BO28: =BL28+65 -> 45723 | BP28: =(YEAR(BO28)-YEAR($BM$10))*12+MONTH(BO28)-MONTH($BM$10)+$BP$7 -> 17 | CA28: UNSOLD | CB28: UNSOLD | CC28: =CA28=CB28 -> TRUE | CD28: UNSOLD | CE28: =CA28=CD28 -> TRUE | EX28: =AW28 -> 1016000.8 | EY28: =AX28 -> 0.15 | EZ28: =AY28 -> 152400.12 | FA28: =AZ28 -> 10000 | FB28: =BA28 -> 142400.12 | FC28: =$FC$7 -> 25 | FD28: =FB28/FC28 -> 5696.005 | FE28: =100%-EY28 -> 0.85 | FF28: =EX28*FE28 -> 863600.7 | FG28: =-PMT(7%/12,180,FF28,0) -> 7762.2873 | FH28: =-PMT(7%/12,120,FF28,0) -> 10027.136 | FI28: =-PMT(7%/12,60,FF28,0) -> 17100.329 | FK28: =FD28-BC28 -> -136704.12
A29: =A28+1 -> 18 | C29: Building 1 | D29: =D28+1 -> 18 | E29: Ground Floor | F29: GF-B1-18 | G29: Single Slot | H29: 13.5 | I29: 52000 | J29: =H29*I29 -> 702000 | K29: 40000 | L29: 30000 | N29: =SUM(J29:M29) -> 772000 | O29: =N29*$O$10 -> 19300 | P29: =N29+O29 -> 791300 | Q29: =$Q$10 -> 0.0125 | R29: =P29*Q29 -> 9891.25 | S29: 1495.557 | T29: =P29+R29+S29 -> 802686.81 | V29: =T29*$V$10 -> 30100.755 | W29: =T29+U29+V29 -> 832787.56 | Y29: =W29+X29 -> 832787.56 | AA29: =Y29+Z29 -> 832787.56 | AC29: =AA29+AB29 -> 832787.56 | AE29: =AC29+AD29 -> 832787.56 | AG29: =AE29+AF29 -> 832787.56 | AI29: =AG29+AH29 -> 832787.56 | AK29: =SUM(AI29:AJ29) -> 832787.56 | AM29: =SUM(AK29:AL29) -> 832787.56 | AO29: =AM29+AN29 -> 832787.56 | AQ29: =AO29+AP29 -> 832787.56 | AS29: =AQ29+AR29 -> 832787.56 | AT29: =AS29 -> 832787.56 | AU29: =AT29*$AU$10 -> 99934.507 | AV29: =AT29*$AV$10 -> 83278.756 | AW29: =SUM(AT29:AV29) -> 1016000.8 | AX29: 0.15 | AY29: =AW29*AX29 -> 152400.12 | AZ29: 10000 | BA29: =AY29-AZ29 -> 142400.12 | BB29: =$BB$7 -> 1 | BC29: =(AY29-AZ29)/BB29 -> 142400.12 | BD29: =100%-AX29 -> 0.85 | BE29: =AW29*BD29 -> 863600.7 | BF29: =-PMT($BF$10/12,180,BE29,0) -> 7762.2873 | BG29: =-PMT($BF$10/12,120,BE29,0) -> 10027.136 | BH29: =-PMT($BF$10/12,60,BE29,0) -> 17100.329 | BL29: =$BL$12 -> 45658 | BM29: =(YEAR(BL29)-YEAR($BM$10))*12+MONTH(BL29)-MONTH($BM$10) -> 15 | BO29: =BL29+65 -> 45723 | BP29: =(YEAR(BO29)-YEAR($BM$10))*12+MONTH(BO29)-MONTH($BM$10)+$BP$7 -> 17 | CA29: UNSOLD | CB29: UNSOLD | CC29: =CA29=CB29 -> TRUE | CD29: UNSOLD | CE29: =CA29=CD29 -> TRUE | EX29: =AW29 -> 1016000.8 | EY29: =AX29 -> 0.15 | EZ29: =AY29 -> 152400.12 | FA29: =AZ29 -> 10000 | FB29: =BA29 -> 142400.12 | FC29: =$FC$7 -> 25 | FD29: =FB29/FC29 -> 5696.005 | FE29: =100%-EY29 -> 0.85 | FF29: =EX29*FE29 -> 863600.7 | FG29: =-PMT(7%/12,180,FF29,0) -> 7762.2873 | FH29: =-PMT(7%/12,120,FF29,0) -> 10027.136 | FI29: =-PMT(7%/12,60,FF29,0) -> 17100.329 | FK29: =FD29-BC29 -> -136704.12
A30: =A29+1 -> 19 | C30: Building 1 | D30: =D29+1 -> 19 | E30: Ground Floor | F30: GF-B1-19 | G30: Single Slot | H30: 13.5 | I30: 52000 | J30: =H30*I30 -> 702000 | K30: 40000 | L30: 30000 | N30: =SUM(J30:M30) -> 772000 | O30: =N30*$O$10 -> 19300 | P30: =N30+O30 -> 791300 | Q30: =$Q$10 -> 0.0125 | R30: =P30*Q30 -> 9891.25 | S30: 0 | T30: =P30+R30+S30 -> 801191.25 | V30: =T30*$V$10 -> 30044.672 | W30: =T30+U30+V30 -> 831235.92 | Y30: =W30+X30 -> 831235.92 | AA30: =Y30+Z30 -> 831235.92 | AC30: =AA30+AB30 -> 831235.92 | AE30: =AC30+AD30 -> 831235.92 | AG30: =AE30+AF30 -> 831235.92 | AI30: =AG30+AH30 -> 831235.92 | AK30: =SUM(AI30:AJ30) -> 831235.92 | AM30: =SUM(AK30:AL30) -> 831235.92 | AO30: =AM30+AN30 -> 831235.92 | AQ30: =AO30+AP30 -> 831235.92 | AS30: =AQ30+AR30 -> 831235.92 | AT30: =AS30 -> 831235.92 | AU30: =AT30*$AU$10 -> 99748.311 | AV30: =AT30*$AV$10 -> 83123.592 | AW30: =SUM(AT30:AV30) -> 1014107.8 | AX30: 0.15 | AY30: =AW30*AX30 -> 152116.17 | AZ30: 10000 | BA30: =AY30-AZ30 -> 142116.17 | BB30: =$BB$7 -> 1 | BC30: =(AY30-AZ30)/BB30 -> 142116.17 | BD30: =100%-AX30 -> 0.85 | BE30: =AW30*BD30 -> 861991.65 | BF30: =-PMT($BF$10/12,180,BE30,0) -> 7747.8247 | BG30: =-PMT($BF$10/12,120,BE30,0) -> 10008.454 | BH30: =-PMT($BF$10/12,60,BE30,0) -> 17068.468 | BL30: =$BL$12 -> 45658 | BM30: =(YEAR(BL30)-YEAR($BM$10))*12+MONTH(BL30)-MONTH($BM$10) -> 15 | BO30: =BL30+65 -> 45723 | BP30: =(YEAR(BO30)-YEAR($BM$10))*12+MONTH(BO30)-MONTH($BM$10)+$BP$7 -> 17 | CA30: SOLD | CB30: SOLD | CC30: =CA30=CB30 -> TRUE | CD30: SOLD | CE30: =CA30=CD30 -> TRUE | EX30: =AW30 -> 1014107.8 | EY30: =AX30 -> 0.15 | EZ30: =AY30 -> 152116.17 | FA30: =AZ30 -> 10000 | FB30: =BA30 -> 142116.17 | FC30: =$FC$7 -> 25 | FD30: =FB30/FC30 -> 5684.6469 | FE30: =100%-EY30 -> 0.85 | FF30: =EX30*FE30 -> 861991.65 | FG30: =-PMT(7%/12,180,FF30,0) -> 7747.8247 | FH30: =-PMT(7%/12,120,FF30,0) -> 10008.454 | FI30: =-PMT(7%/12,60,FF30,0) -> 17068.468 | FK30: =FD30-BC30 -> -136431.53
A31: =A30+1 -> 20 | C31: Building 1 | D31: =D30+1 -> 20 | E31: Ground Floor | F31: GF-B1-20 | G31: Single Slot | H31: 18.5 | I31: 48000 | J31: =H31*I31 -> 888000 | N31: =SUM(J31:M31) -> 888000 | O31: =N31*$O$10 -> 22200 | P31: =N31+O31 -> 910200 | Q31: =$Q$10 -> 0.0125 | R31: =P31*Q31 -> 11377.5 | S31: 0 | T31: =P31+R31+S31 -> 921577.5 | V31: =T31*$V$10 -> 34559.156 | W31: =T31+U31+V31 -> 956136.66 | Y31: =W31+X31 -> 956136.66 | AA31: =Y31+Z31 -> 956136.66 | AC31: =AA31+AB31 -> 956136.66 | AE31: =AC31+AD31 -> 956136.66 | AG31: =AE31+AF31 -> 956136.66 | AI31: =AG31+AH31 -> 956136.66 | AK31: =SUM(AI31:AJ31) -> 956136.66 | AM31: =SUM(AK31:AL31) -> 956136.66 | AO31: =AM31+AN31 -> 956136.66 | AQ31: =AO31+AP31 -> 956136.66 | AS31: =AQ31+AR31 -> 956136.66 | AT31: =AS31 -> 956136.66 | AU31: =AT31*$AU$10 -> 114736.4 | AV31: =AT31*$AV$10 -> 95613.666 | AW31: =SUM(AT31:AV31) -> 1166486.7 | AX31: 0.15 | AY31: =AW31*AX31 -> 174973.01 | AZ31: 10000 | BA31: =AY31-AZ31 -> 164973.01 | BB31: =$BB$7 -> 1 | BC31: =(AY31-AZ31)/BB31 -> 164973.01 | BD31: =100%-AX31 -> 0.85 | BE31: =AW31*BD31 -> 991513.71 | BF31: =-PMT($BF$10/12,180,BE31,0) -> 8912.0056 | BG31: =-PMT($BF$10/12,120,BE31,0) -> 11512.315 | BH31: =-PMT($BF$10/12,60,BE31,0) -> 19633.16 | BL31: =$BL$12 -> 45658 | BM31: =(YEAR(BL31)-YEAR($BM$10))*12+MONTH(BL31)-MONTH($BM$10) -> 15 | BO31: =BL31+65 -> 45723 | BP31: =(YEAR(BO31)-YEAR($BM$10))*12+MONTH(BO31)-MONTH($BM$10)+$BP$7 -> 17 | CA31: SOLD | CB31: SOLD | CC31: =CA31=CB31 -> TRUE | CD31: SOLD | CE31: =CA31=CD31 -> TRUE | EX31: =AW31 -> 1166486.7 | EY31: =AX31 -> 0.15 | EZ31: =AY31 -> 174973.01 | FA31: =AZ31 -> 10000 | FB31: =BA31 -> 164973.01 | FC31: =$FC$7 -> 25 | FD31: =FB31/FC31 -> 6598.9203 | FE31: =100%-EY31 -> 0.85 | FF31: =EX31*FE31 -> 991513.71 | FG31: =-PMT(7%/12,180,FF31,0) -> 8912.0056 | FH31: =-PMT(7%/12,120,FF31,0) -> 11512.315 | FI31: =-PMT(7%/12,60,FF31,0) -> 19633.16 | FK31: =FD31-BC31 -> -158374.09
A32: =A31+1 -> 21 | C32: Building 1 | D32: =D31+1 -> 21 | E32: Ground Floor | F32: GF-B1-21 | G32: Single Slot | H32: 13.5 | I32: 52000 | J32: =H32*I32 -> 702000 | K32: 40000 | L32: 50000 | N32: =SUM(J32:M32) -> 792000 | O32: =N32*$O$10 -> 19800 | P32: =N32+O32 -> 811800 | Q32: =$Q$10 -> 0.0125 | R32: =P32*Q32 -> 10147.5 | S32: 0 | T32: =P32+R32+S32 -> 821947.5 | V32: =T32*$V$10 -> 30823.031 | W32: =T32+U32+V32 -> 852770.53 | Y32: =W32+X32 -> 852770.53 | AA32: =Y32+Z32 -> 852770.53 | AC32: =AA32+AB32 -> 852770.53 | AE32: =AC32+AD32 -> 852770.53 | AG32: =AE32+AF32 -> 852770.53 | AI32: =AG32+AH32 -> 852770.53 | AK32: =SUM(AI32:AJ32) -> 852770.53 | AM32: =SUM(AK32:AL32) -> 852770.53 | AO32: =AM32+AN32 -> 852770.53 | AQ32: =AO32+AP32 -> 852770.53 | AS32: =AQ32+AR32 -> 852770.53 | AT32: =AS32 -> 852770.53 | AU32: =AT32*$AU$10 -> 102332.46 | AV32: =AT32*$AV$10 -> 85277.053 | AW32: =SUM(AT32:AV32) -> 1040380 | AX32: 0.15 | AY32: =AW32*AX32 -> 156057.01 | AZ32: 10000 | BA32: =AY32-AZ32 -> 146057.01 | BB32: =$BB$7 -> 1 | BC32: =(AY32-AZ32)/BB32 -> 146057.01 | BD32: =100%-AX32 -> 0.85 | BE32: =AW32*BD32 -> 884323.04 | BF32: =-PMT($BF$10/12,180,BE32,0) -> 7948.5455 | BG32: =-PMT($BF$10/12,120,BE32,0) -> 10267.74 | BH32: =-PMT($BF$10/12,60,BE32,0) -> 17510.656 | BL32: =$BL$12 -> 45658 | BM32: =(YEAR(BL32)-YEAR($BM$10))*12+MONTH(BL32)-MONTH($BM$10) -> 15 | BO32: =BL32+65 -> 45723 | BP32: =(YEAR(BO32)-YEAR($BM$10))*12+MONTH(BO32)-MONTH($BM$10)+$BP$7 -> 17 | CA32: SOLD | CB32: SOLD | CC32: =CA32=CB32 -> TRUE | CD32: SOLD | CE32: =CA32=CD32 -> TRUE | EX32: =AW32 -> 1040380 | EY32: =AX32 -> 0.15 | EZ32: =AY32 -> 156057.01 | FA32: =AZ32 -> 10000 | FB32: =BA32 -> 146057.01 | FC32: =$FC$7 -> 25 | FD32: =FB32/FC32 -> 5842.2803 | FE32: =100%-EY32 -> 0.85 | FF32: =EX32*FE32 -> 884323.04 | FG32: =-PMT(7%/12,180,FF32,0) -> 7948.5455 | FH32: =-PMT(7%/12,120,FF32,0) -> 10267.74 | FI32: =-PMT(7%/12,60,FF32,0) -> 17510.656 | FK32: =FD32-BC32 -> -140214.73
A33: =A32+1 -> 22 | C33: Building 1 | D33: =D32+1 -> 22 | E33: Ground Floor | F33: GF-B1-22 | G33: Single Slot | H33: 13.5 | I33: 52000 | J33: =H33*I33 -> 702000 | K33: 40000 | L33: 50000 | N33: =SUM(J33:M33) -> 792000 | O33: =N33*$O$10 -> 19800 | P33: =N33+O33 -> 811800 | Q33: =$Q$10 -> 0.0125 | R33: =P33*Q33 -> 10147.5 | S33: 0 | T33: =P33+R33+S33 -> 821947.5 | V33: =T33*$V$10 -> 30823.031 | W33: =T33+U33+V33 -> 852770.53 | Y33: =W33+X33 -> 852770.53 | AA33: =Y33+Z33 -> 852770.53 | AC33: =AA33+AB33 -> 852770.53 | AE33: =AC33+AD33 -> 852770.53 | AG33: =AE33+AF33 -> 852770.53 | AI33: =AG33+AH33 -> 852770.53 | AK33: =SUM(AI33:AJ33) -> 852770.53 | AM33: =SUM(AK33:AL33) -> 852770.53 | AO33: =AM33+AN33 -> 852770.53 | AQ33: =AO33+AP33 -> 852770.53 | AS33: =AQ33+AR33 -> 852770.53 | AT33: =AS33 -> 852770.53 | AU33: =AT33*$AU$10 -> 102332.46 | AV33: =AT33*$AV$10 -> 85277.053 | AW33: =SUM(AT33:AV33) -> 1040380 | AX33: 0.15 | AY33: =AW33*AX33 -> 156057.01 | AZ33: 10000 | BA33: =AY33-AZ33 -> 146057.01 | BB33: =$BB$7 -> 1 | BC33: =(AY33-AZ33)/BB33 -> 146057.01 | BD33: =100%-AX33 -> 0.85 | BE33: =AW33*BD33 -> 884323.04 | BF33: =-PMT($BF$10/12,180,BE33,0) -> 7948.5455 | BG33: =-PMT($BF$10/12,120,BE33,0) -> 10267.74 | BH33: =-PMT($BF$10/12,60,BE33,0) -> 17510.656 | BL33: =$BL$12 -> 45658 | BM33: =(YEAR(BL33)-YEAR($BM$10))*12+MONTH(BL33)-MONTH($BM$10) -> 15 | BO33: =BL33+65 -> 45723 | BP33: =(YEAR(BO33)-YEAR($BM$10))*12+MONTH(BO33)-MONTH($BM$10)+$BP$7 -> 17 | CA33: SOLD | CB33: SOLD | CC33: =CA33=CB33 -> TRUE | CD33: SOLD | CE33: =CA33=CD33 -> TRUE | EX33: =AW33 -> 1040380 | EY33: =AX33 -> 0.15 | EZ33: =AY33 -> 156057.01 | FA33: =AZ33 -> 10000 | FB33: =BA33 -> 146057.01 | FC33: =$FC$7 -> 25 | FD33: =FB33/FC33 -> 5842.2803 | FE33: =100%-EY33 -> 0.85 | FF33: =EX33*FE33 -> 884323.04 | FG33: =-PMT(7%/12,180,FF33,0) -> 7948.5455 | FH33: =-PMT(7%/12,120,FF33,0) -> 10267.74 | FI33: =-PMT(7%/12,60,FF33,0) -> 17510.656 | FK33: =FD33-BC33 -> -140214.73
A34: =A33+1 -> 23 | C34: Building 1 | D34: =D33+1 -> 23 | E34: Ground Floor | F34: GF-B1-23 | G34: Single Slot | H34: 18.5 | I34: 48000 | J34: =H34*I34 -> 888000 | N34: =SUM(J34:M34) -> 888000 | O34: =N34*$O$10 -> 22200 | P34: =N34+O34 -> 910200 | Q34: =$Q$10 -> 0.0125 | R34: =P34*Q34 -> 11377.5 | S34: 0 | T34: =P34+R34+S34 -> 921577.5 | V34: =T34*$V$10 -> 34559.156 | W34: =T34+U34+V34 -> 956136.66 | Y34: =W34+X34 -> 956136.66 | AA34: =Y34+Z34 -> 956136.66 | AC34: =AA34+AB34 -> 956136.66 | AE34: =AC34+AD34 -> 956136.66 | AG34: =AE34+AF34 -> 956136.66 | AI34: =AG34+AH34 -> 956136.66 | AK34: =SUM(AI34:AJ34) -> 956136.66 | AM34: =SUM(AK34:AL34) -> 956136.66 | AO34: =AM34+AN34 -> 956136.66 | AQ34: =AO34+AP34 -> 956136.66 | AS34: =AQ34+AR34 -> 956136.66 | AT34: =AS34 -> 956136.66 | AU34: =AT34*$AU$10 -> 114736.4 | AV34: =AT34*$AV$10 -> 95613.666 | AW34: =SUM(AT34:AV34) -> 1166486.7 | AX34: 0.15 | AY34: =AW34*AX34 -> 174973.01 | AZ34: 10000 | BA34: =AY34-AZ34 -> 164973.01 | BB34: =$BB$7 -> 1 | BC34: =(AY34-AZ34)/BB34 -> 164973.01 | BD34: =100%-AX34 -> 0.85 | BE34: =AW34*BD34 -> 991513.71 | BF34: =-PMT($BF$10/12,180,BE34,0) -> 8912.0056 | BG34: =-PMT($BF$10/12,120,BE34,0) -> 11512.315 | BH34: =-PMT($BF$10/12,60,BE34,0) -> 19633.16 | BL34: =$BL$12 -> 45658 | BM34: =(YEAR(BL34)-YEAR($BM$10))*12+MONTH(BL34)-MONTH($BM$10) -> 15 | BO34: =BL34+65 -> 45723 | BP34: =(YEAR(BO34)-YEAR($BM$10))*12+MONTH(BO34)-MONTH($BM$10)+$BP$7 -> 17 | CA34: SOLD | CB34: SOLD | CC34: =CA34=CB34 -> TRUE | CD34: SOLD | CE34: =CA34=CD34 -> TRUE | EX34: =AW34 -> 1166486.7 | EY34: =AX34 -> 0.15 | EZ34: =AY34 -> 174973.01 | FA34: =AZ34 -> 10000 | FB34: =BA34 -> 164973.01 | FC34: =$FC$7 -> 25 | FD34: =FB34/FC34 -> 6598.9203 | FE34: =100%-EY34 -> 0.85 | FF34: =EX34*FE34 -> 991513.71 | FG34: =-PMT(7%/12,180,FF34,0) -> 8912.0056 | FH34: =-PMT(7%/12,120,FF34,0) -> 11512.315 | FI34: =-PMT(7%/12,60,FF34,0) -> 19633.16 | FK34: =FD34-BC34 -> -158374.09
A35: =A34+1 -> 24 | C35: Building 1 | D35: =D34+1 -> 24 | E35: Ground Floor | F35: GF-B1-24 | G35: Single Slot | H35: 13.5 | I35: 52000 | J35: =H35*I35 -> 702000 | K35: 40000 | L35: 50000 | N35: =SUM(J35:M35) -> 792000 | O35: =N35*$O$10 -> 19800 | P35: =N35+O35 -> 811800 | Q35: =$Q$10 -> 0.0125 | R35: =P35*Q35 -> 10147.5 | S35: 0 | T35: =P35+R35+S35 -> 821947.5 | V35: =T35*$V$10 -> 30823.031 | W35: =T35+U35+V35 -> 852770.53 | Y35: =W35+X35 -> 852770.53 | AA35: =Y35+Z35 -> 852770.53 | AC35: =AA35+AB35 -> 852770.53 | AE35: =AC35+AD35 -> 852770.53 | AG35: =AE35+AF35 -> 852770.53 | AI35: =AG35+AH35 -> 852770.53 | AK35: =SUM(AI35:AJ35) -> 852770.53 | AM35: =SUM(AK35:AL35) -> 852770.53 | AO35: =AM35+AN35 -> 852770.53 | AQ35: =AO35+AP35 -> 852770.53 | AS35: =AQ35+AR35 -> 852770.53 | AT35: =AS35 -> 852770.53 | AU35: =AT35*$AU$10 -> 102332.46 | AV35: =AT35*$AV$10 -> 85277.053 | AW35: =SUM(AT35:AV35) -> 1040380 | AX35: 0.15 | AY35: =AW35*AX35 -> 156057.01 | AZ35: 10000 | BA35: =AY35-AZ35 -> 146057.01 | BB35: =$BB$7 -> 1 | BC35: =(AY35-AZ35)/BB35 -> 146057.01 | BD35: =100%-AX35 -> 0.85 | BE35: =AW35*BD35 -> 884323.04 | BF35: =-PMT($BF$10/12,180,BE35,0) -> 7948.5455 | BG35: =-PMT($BF$10/12,120,BE35,0) -> 10267.74 | BH35: =-PMT($BF$10/12,60,BE35,0) -> 17510.656 | BL35: =$BL$12 -> 45658 | BM35: =(YEAR(BL35)-YEAR($BM$10))*12+MONTH(BL35)-MONTH($BM$10) -> 15 | BO35: =BL35+65 -> 45723 | BP35: =(YEAR(BO35)-YEAR($BM$10))*12+MONTH(BO35)-MONTH($BM$10)+$BP$7 -> 17 | CA35: SOLD | CB35: SOLD | CC35: =CA35=CB35 -> TRUE | CD35: SOLD | CE35: =CA35=CD35 -> TRUE | EX35: =AW35 -> 1040380 | EY35: =AX35 -> 0.15 | EZ35: =AY35 -> 156057.01 | FA35: =AZ35 -> 10000 | FB35: =BA35 -> 146057.01 | FC35: =$FC$7 -> 25 | FD35: =FB35/FC35 -> 5842.2803 | FE35: =100%-EY35 -> 0.85 | FF35: =EX35*FE35 -> 884323.04 | FG35: =-PMT(7%/12,180,FF35,0) -> 7948.5455 | FH35: =-PMT(7%/12,120,FF35,0) -> 10267.74 | FI35: =-PMT(7%/12,60,FF35,0) -> 17510.656 | FK35: =FD35-BC35 -> -140214.73
A36: =A35+1 -> 25 | C36: Building 1 | D36: =D35+1 -> 25 | E36: Ground Floor | F36: GF-B1-25 | G36: Single Slot | H36: 18.5 | I36: 48000 | J36: =H36*I36 -> 888000 | N36: =SUM(J36:M36) -> 888000 | O36: =N36*$O$10 -> 22200 | P36: =N36+O36 -> 910200 | Q36: =$Q$10 -> 0.0125 | R36: =P36*Q36 -> 11377.5 | S36: 0 | T36: =P36+R36+S36 -> 921577.5 | V36: =T36*$V$10 -> 34559.156 | W36: =T36+U36+V36 -> 956136.66 | Y36: =W36+X36 -> 956136.66 | AA36: =Y36+Z36 -> 956136.66 | AC36: =AA36+AB36 -> 956136.66 | AE36: =AC36+AD36 -> 956136.66 | AG36: =AE36+AF36 -> 956136.66 | AI36: =AG36+AH36 -> 956136.66 | AK36: =SUM(AI36:AJ36) -> 956136.66 | AM36: =SUM(AK36:AL36) -> 956136.66 | AO36: =AM36+AN36 -> 956136.66 | AQ36: =AO36+AP36 -> 956136.66 | AS36: =AQ36+AR36 -> 956136.66 | AT36: =AS36 -> 956136.66 | AU36: =AT36*$AU$10 -> 114736.4 | AV36: =AT36*$AV$10 -> 95613.666 | AW36: =SUM(AT36:AV36) -> 1166486.7 | AX36: 0.15 | AY36: =AW36*AX36 -> 174973.01 | AZ36: 10000 | BA36: =AY36-AZ36 -> 164973.01 | BB36: =$BB$7 -> 1 | BC36: =(AY36-AZ36)/BB36 -> 164973.01 | BD36: =100%-AX36 -> 0.85 | BE36: =AW36*BD36 -> 991513.71 | BF36: =-PMT($BF$10/12,180,BE36,0) -> 8912.0056 | BG36: =-PMT($BF$10/12,120,BE36,0) -> 11512.315 | BH36: =-PMT($BF$10/12,60,BE36,0) -> 19633.16 | BL36: =$BL$12 -> 45658 | BM36: =(YEAR(BL36)-YEAR($BM$10))*12+MONTH(BL36)-MONTH($BM$10) -> 15 | BO36: =BL36+65 -> 45723 | BP36: =(YEAR(BO36)-YEAR($BM$10))*12+MONTH(BO36)-MONTH($BM$10)+$BP$7 -> 17 | CA36: NOT YET OPEN | CB36: NOT YET OPEN | CC36: =CA36=CB36 -> TRUE | CD36: NOT YET OPEN | CE36: =CA36=CD36 -> TRUE | EX36: =AW36 -> 1166486.7 | EY36: =AX36 -> 0.15 | EZ36: =AY36 -> 174973.01 | FA36: =AZ36 -> 10000 | FB36: =BA36 -> 164973.01 | FC36: =$FC$7 -> 25 | FD36: =FB36/FC36 -> 6598.9203 | FE36: =100%-EY36 -> 0.85 | FF36: =EX36*FE36 -> 991513.71 | FG36: =-PMT(7%/12,180,FF36,0) -> 8912.0056 | FH36: =-PMT(7%/12,120,FF36,0) -> 11512.315 | FI36: =-PMT(7%/12,60,FF36,0) -> 19633.16 | FK36: =FD36-BC36 -> -158374.09
